BEGIN:VCALENDAR
PRODID:brasil.gov.agenda
VERSION:1.0
BEGIN:VEVENT
DTSTART:20221111T022700Z
DTEND:20221111T032700Z
DCREATED:20221110T022707Z
UID:Compromisso-d971a53956d441aea41dcb2ef71902a3
SEQUENCE:0
LAST-MODIFIED:20221110T022707Z
SUMMARY:teste
PRIORITY:3
TRANSP:0
END:VEVENT
END:VCALENDAR
